BEGIN:VCALENDAR
VERSION:2.0
PRODID:Spatie calendar-links
BEGIN:VEVENT
UID:https://erika-und-kurt.de/?post_type=mi-event-date&#038;p=22189
SUMMARY:Hand Made Markt – Konzertplatz “Weisser Hirsch”
DTSTAMP:20260606T100000Z
DTSTART:20260606T100000Z
DTEND:20260606T170000Z
DESCRIPTION:Mehr Informationen: https://erika-und-kurt.de/veranstaltungen/hand-made-markt-konzertplatz-weisser-hirsch/
LOCATION:Stechgrundstraße \, 01324 Dresden  OT Loschwitz
END:VEVENT
END:VCALENDAR